BEGIN:VCALENDAR
VERSION:2.0
PRODID:icalendar-ruby
CALSCALE:GREGORIAN
METHOD:PUBLISH
BEGIN:VEVENT
DTSTAMP:20260424T163045Z
UID:765-400141@oldchurchrd.com
DTSTART:20260921T140000Z
DTEND:20260921T170000Z
CLASS:PUBLIC
CREATED:20260424T102311
DESCRIPTION:
LAST-MODIFIED:20260424T102311
LOCATION:
SUMMARY:Church/Hall Janitorial
URL;VALUE=URI:https://www.oldchurchrd.com/events/church-hall-janitorial--76
 5/2026-09-21
END:VEVENT
END:VCALENDAR
