BEGIN:VCALENDAR
VERSION:2.0
PRODID:icalendar-ruby
CALSCALE:GREGORIAN
METHOD:PUBLISH
BEGIN:VEVENT
DTSTAMP:20260424T224121Z
UID:765-400623@oldchurchrd.com
DTSTART:20261019T140000Z
DTEND:20261019T170000Z
CLASS:PUBLIC
CREATED:20260424T155654
DESCRIPTION:
LAST-MODIFIED:20260424T155654
LOCATION:
SUMMARY:Church/Hall Janitorial
URL;VALUE=URI:https://www.oldchurchrd.com/events/church-hall-janitorial--76
 5/2026-10-19
END:VEVENT
END:VCALENDAR
