BEGIN:VCALENDAR
VERSION:2.0
PRODID:icalendar-ruby
CALSCALE:GREGORIAN
METHOD:PUBLISH
BEGIN:VEVENT
DTSTAMP:20260425T015219Z
UID:765-400864@oldchurchrd.com
DTSTART:20261102T150000Z
DTEND:20261102T180000Z
CLASS:PUBLIC
CREATED:20260424T184452
DESCRIPTION:
LAST-MODIFIED:20260424T184452
LOCATION:
SUMMARY:Church/Hall Janitorial
URL;VALUE=URI:https://www.oldchurchrd.com/events/church-hall-janitorial--76
 5/2026-11-02
END:VEVENT
END:VCALENDAR
